BEGIN:VCALENDAR
VERSION:2.0
PRODID:-//itgo.ca - ECPv6.15.20//NONSGML v1.0//EN
CALSCALE:GREGORIAN
METHOD:PUBLISH
X-WR-CALNAME:itgo.ca
X-ORIGINAL-URL:https://itgo.ca
X-WR-CALDESC:Events for itgo.ca
REFRESH-INTERVAL;VALUE=DURATION:PT1H
X-Robots-Tag:noindex
X-PUBLISHED-TTL:PT1H
BEGIN:VTIMEZONE
TZID:UTC
BEGIN:STANDARD
TZOFFSETFROM:+0000
TZOFFSETTO:+0000
TZNAME:UTC
DTSTART:20230101T000000
END:STANDARD
END:VTIMEZONE
BEGIN:VEVENT
DTSTART;TZID=UTC:20241004T180000
DTEND;TZID=UTC:20241025T000000
DTSTAMP:20260421T112955
CREATED:20240724T170213Z
LAST-MODIFIED:20240724T170517Z
UID:78-1728064800-1729814400@itgo.ca
SUMMARY:Thanks For My Sight Night 2024
DESCRIPTION:
URL:https://itgo.ca/event/thanks-for-my-sight-night-2024/
LOCATION:The Royalton Hospitality\, 8201 Weston Road\, Woodbridge\, Ontario\, L4L1A6\, Canada
ORGANIZER;CN="The Eye Foundation of Canada":MAILTO:info@eyefoundationcanada.ca
END:VEVENT
END:VCALENDAR